BEGIN:VCALENDAR
VERSION:2.0
PRODID:spatie/icalendar-generator
DESCRIPTION:Veranstaltungen von Big Band Black Bottom
X-WR-CALDESC:Veranstaltungen von Big Band Black Bottom
REFRESH-INTERVAL;VALUE=DURATION:PT1440M
X-PUBLISHED-TTL:PT1440M
BEGIN:VTIMEZONE
TZID:Europe/Berlin
BEGIN:STANDARD
DTSTART:20231029T030000Z
TZOFFSETFROM:+0200
TZOFFSETTO:+0100
END:STANDARD
BEGIN:DAYLIGHT
DTSTART:20240331T020000Z
TZOFFSETFROM:+0100
TZOFFSETTO:+0200
END:DAYLIGHT
BEGIN:STANDARD
DTSTART:20241027T030000Z
TZOFFSETFROM:+0200
TZOFFSETTO:+0100
END:STANDARD
END:VTIMEZONE
BEGIN:VTIMEZONE
TZID:UTC
BEGIN:STANDARD
DTSTART:20250723T211717Z
TZOFFSETFROM:+0000
TZOFFSETTO:+0000
END:STANDARD
END:VTIMEZONE
BEGIN:VEVENT
UID:7-7
DTSTAMP:20260419T211717Z
SUMMARY:Sommerfest
LOCATION:Diakoniezentrum Heiligensee Keilerstr. 19  Berlin Berlin 13503
ORGANIZER;CN=TM:MAILTO:tobi.meier@arcor.de
DTSTART;TZID=Europe/Berlin:20240602T123000
DTEND;TZID=Europe/Berlin:20240602T133000
X-ALT-DESC;FMTTYPE=TEXT/HTML:Sommerfest auf dem Marktplatz im Diakoniezentr
 um
CATEGORIES:General
URL;VALUE=URI:https://blackbottom.eu/konzerte/sommerfest-2/
METHOD:PUBLISH
END:VEVENT
END:VCALENDAR