BEGIN:VCALENDAR
VERSION:2.0
PRODID:spatie/icalendar-generator
DESCRIPTION:Veranstaltungen von Big Band Black Bottom
X-WR-CALDESC:Veranstaltungen von Big Band Black Bottom
REFRESH-INTERVAL;VALUE=DURATION:PT1440M
X-PUBLISHED-TTL:PT1440M
BEGIN:VTIMEZONE
TZID:Europe/Berlin
BEGIN:DAYLIGHT
DTSTART:20230326T020000Z
TZOFFSETFROM:+0100
TZOFFSETTO:+0200
END:DAYLIGHT
BEGIN:STANDARD
DTSTART:20231029T030000Z
TZOFFSETFROM:+0200
TZOFFSETTO:+0100
END:STANDARD
END:VTIMEZONE
BEGIN:VTIMEZONE
TZID:UTC
BEGIN:STANDARD
DTSTART:20250724T022148Z
TZOFFSETFROM:+0000
TZOFFSETTO:+0000
END:STANDARD
END:VTIMEZONE
BEGIN:VEVENT
UID:5-5
DTSTAMP:20260420T022148Z
SUMMARY:Umsonst &amp;amp\; Draußen
LOCATION:Freilichtbühne an der Zitadelle  Am Juliusturm 62  Berlin Berlin 
 13599
ORGANIZER;CN=TM:MAILTO:tobi.meier@arcor.de
DTSTART;TZID=Europe/Berlin:20230827T110000
DTEND;TZID=Europe/Berlin:20230827T130000
X-ALT-DESC;FMTTYPE=TEXT/HTML:In der Reihe \"Umsonst &amp;amp\; Draußen\" laden
  lokale Orchester\, Ensembles oder Chöre Sonntags Vormittag zu Konzerten 
 auf Spendenbasis. https://kulturhaus-spandau.de
CATEGORIES:General
URL;VALUE=URI:https://blackbottom.eu/konzerte/umsonst-draussen-2/
METHOD:PUBLISH
END:VEVENT
END:VCALENDAR