BEGIN:VCALENDAR
VERSION:2.0
PRODID:spatie/icalendar-generator
DESCRIPTION:Veranstaltungen von Big Band Black Bottom
X-WR-CALDESC:Veranstaltungen von Big Band Black Bottom
REFRESH-INTERVAL;VALUE=DURATION:PT1440M
X-PUBLISHED-TTL:PT1440M
BEGIN:VTIMEZONE
TZID:Europe/Berlin
BEGIN:DAYLIGHT
DTSTART:20260329T020000Z
TZOFFSETFROM:+0100
TZOFFSETTO:+0200
END:DAYLIGHT
BEGIN:STANDARD
DTSTART:20261025T030000Z
TZOFFSETFROM:+0200
TZOFFSETTO:+0100
END:STANDARD
END:VTIMEZONE
BEGIN:VTIMEZONE
TZID:UTC
BEGIN:STANDARD
DTSTART:20250723T125746Z
TZOFFSETFROM:+0000
TZOFFSETTO:+0000
END:STANDARD
END:VTIMEZONE
BEGIN:VEVENT
UID:32-18
DTSTAMP:20260419T125746Z
SUMMARY:Kronenkreuzverleihung (Black Bottom Trio)\, geschlossene Veranstalt
 ung
LOCATION:Diakoniezentrum Heiligensee Keilerstr. 19  Berlin Berlin 13503
ORGANIZER;CN=TM:MAILTO:tobi.meier@arcor.de
DTSTART;TZID=Europe/Berlin;VALUE=DATE:20260922
DTEND;TZID=Europe/Berlin;VALUE=DATE:20260923
X-ALT-DESC;FMTTYPE=TEXT/HTML:
CATEGORIES:General
URL;VALUE=URI:https://blackbottom.eu/konzerte/kronenkreuzverleihung-black-b
 ottom-trio-geschlossene-veranstaltung/
METHOD:PUBLISH
END:VEVENT
END:VCALENDAR