BEGIN:VCALENDAR
VERSION:2.0
PRODID:spatie/icalendar-generator
DESCRIPTION:Veranstaltungen von Big Band Black Bottom
X-WR-CALDESC:Veranstaltungen von Big Band Black Bottom
REFRESH-INTERVAL;VALUE=DURATION:PT1440M
X-PUBLISHED-TTL:PT1440M
BEGIN:VTIMEZONE
TZID:Europe/Berlin
BEGIN:DAYLIGHT
DTSTART:20250330T020000Z
TZOFFSETFROM:+0100
TZOFFSETTO:+0200
END:DAYLIGHT
BEGIN:STANDARD
DTSTART:20251026T030000Z
TZOFFSETFROM:+0200
TZOFFSETTO:+0100
END:STANDARD
BEGIN:DAYLIGHT
DTSTART:20260329T020000Z
TZOFFSETFROM:+0100
TZOFFSETTO:+0200
END:DAYLIGHT
END:VTIMEZONE
BEGIN:VTIMEZONE
TZID:UTC
BEGIN:STANDARD
DTSTART:20250723T162327Z
TZOFFSETFROM:+0000
TZOFFSETTO:+0000
END:STANDARD
END:VTIMEZONE
BEGIN:VEVENT
UID:19-15
DTSTAMP:20260419T162327Z
SUMMARY:Swinging Christmas – Weihnachtsmelodien im Bigband-Sound
LOCATION:Café am Marktplatz  Keilerstraße 17/19  Berlin  13503
ORGANIZER;CN=TM:MAILTO:tobi.meier@arcor.de
DTSTART;TZID=Europe/Berlin:20251213T180000
DTEND;TZID=Europe/Berlin:20251213T190000
X-ALT-DESC;FMTTYPE=TEXT/HTML:Einlass ab 17.45 Uhr Eintritt: 16 €\, erm. 1
 2 € (Kinder/Jugendliche bis 14 Jahre)
CATEGORIES:General
URL;VALUE=URI:https://blackbottom.eu/konzerte/swinging-christmas-weihnachts
 melodien-im-bigband-sound/
METHOD:PUBLISH
END:VEVENT
END:VCALENDAR