BEGIN:VCALENDAR
VERSION:2.0
PRODID:spatie/icalendar-generator
DESCRIPTION:Veranstaltungen von Big Band Black Bottom
X-WR-CALDESC:Veranstaltungen von Big Band Black Bottom
REFRESH-INTERVAL;VALUE=DURATION:PT1440M
X-PUBLISHED-TTL:PT1440M
BEGIN:VTIMEZONE
TZID:Europe/Berlin
BEGIN:STANDARD
DTSTART:20241027T030000Z
TZOFFSETFROM:+0200
TZOFFSETTO:+0100
END:STANDARD
BEGIN:DAYLIGHT
DTSTART:20250330T020000Z
TZOFFSETFROM:+0100
TZOFFSETTO:+0200
END:DAYLIGHT
BEGIN:STANDARD
DTSTART:20251026T030000Z
TZOFFSETFROM:+0200
TZOFFSETTO:+0100
END:STANDARD
END:VTIMEZONE
BEGIN:VTIMEZONE
TZID:UTC
BEGIN:STANDARD
DTSTART:20250723T162143Z
TZOFFSETFROM:+0000
TZOFFSETTO:+0000
END:STANDARD
END:VTIMEZONE
BEGIN:VEVENT
UID:16-13
DTSTAMP:20260419T162143Z
SUMMARY:Pfingstkonzert
LOCATION:Freilichtbühne an der Zitadelle  Am Juliusturm 62  Berlin Berlin 
 13599
ORGANIZER;CN=TM:MAILTO:tobi.meier@arcor.de
DTSTART;TZID=Europe/Berlin:20250608T110000
DTEND;TZID=Europe/Berlin:20250608T120000
X-ALT-DESC;FMTTYPE=TEXT/HTML:
CATEGORIES:General
URL;VALUE=URI:https://blackbottom.eu/konzerte/pfingstkonzert-2/
METHOD:PUBLISH
END:VEVENT
END:VCALENDAR